BEGIN:VCALENDAR
VERSION:2.0
PRODID:-//volksbeat.at - ECPv6.15.17.1//NONSGML v1.0//EN
CALSCALE:GREGORIAN
METHOD:PUBLISH
X-WR-CALNAME:volksbeat.at
X-ORIGINAL-URL:https://volksbeat.at
X-WR-CALDESC:Veranstaltungen für volksbeat.at
REFRESH-INTERVAL;VALUE=DURATION:PT1H
X-Robots-Tag:noindex
X-PUBLISHED-TTL:PT1H
BEGIN:VTIMEZONE
TZID:Europe/Berlin
BEGIN:DAYLIGHT
TZOFFSETFROM:+0100
TZOFFSETTO:+0200
TZNAME:CEST
DTSTART:20250330T010000
END:DAYLIGHT
BEGIN:STANDARD
TZOFFSETFROM:+0200
TZOFFSETTO:+0100
TZNAME:CET
DTSTART:20251026T010000
END:STANDARD
BEGIN:DAYLIGHT
TZOFFSETFROM:+0100
TZOFFSETTO:+0200
TZNAME:CEST
DTSTART:20260329T010000
END:DAYLIGHT
BEGIN:STANDARD
TZOFFSETFROM:+0200
TZOFFSETTO:+0100
TZNAME:CET
DTSTART:20261025T010000
END:STANDARD
BEGIN:DAYLIGHT
TZOFFSETFROM:+0100
TZOFFSETTO:+0200
TZNAME:CEST
DTSTART:20270328T010000
END:DAYLIGHT
BEGIN:STANDARD
TZOFFSETFROM:+0200
TZOFFSETTO:+0100
TZNAME:CET
DTSTART:20271031T010000
END:STANDARD
BEGIN:DAYLIGHT
TZOFFSETFROM:+0100
TZOFFSETTO:+0200
TZNAME:CEST
DTSTART:20280326T010000
END:DAYLIGHT
BEGIN:STANDARD
TZOFFSETFROM:+0200
TZOFFSETTO:+0100
TZNAME:CET
DTSTART:20281029T010000
END:STANDARD
BEGIN:DAYLIGHT
TZOFFSETFROM:+0100
TZOFFSETTO:+0200
TZNAME:CEST
DTSTART:20290325T010000
END:DAYLIGHT
BEGIN:STANDARD
TZOFFSETFROM:+0200
TZOFFSETTO:+0100
TZNAME:CET
DTSTART:20291028T010000
END:STANDARD
END:VTIMEZONE
BEGIN:VEVENT
DTSTART;VALUE=DATE:20261025
DTEND;VALUE=DATE:20261026
DTSTAMP:20260423T155200
CREATED:20251229T063906Z
LAST-MODIFIED:20251229T063906Z
UID:2488-1792886400-1792972799@volksbeat.at
SUMMARY:Jungbauernball Götzens
DESCRIPTION:
URL:https://volksbeat.at/event/jungbauernball-goetzens/
LOCATION:Götzens
END:VEVENT
BEGIN:VEVENT
DTSTART;VALUE=DATE:20261107
DTEND;VALUE=DATE:20261108
DTSTAMP:20260423T155200
CREATED:20260309T074359Z
LAST-MODIFIED:20260309T074359Z
UID:2706-1794009600-1794095999@volksbeat.at
SUMMARY:Jungbauernball
DESCRIPTION:
URL:https://volksbeat.at/event/jungbauernball-3/
LOCATION:Nasserreith
END:VEVENT
BEGIN:VEVENT
DTSTART;VALUE=DATE:20261114
DTEND;VALUE=DATE:20261115
DTSTAMP:20260423T155200
CREATED:20260119T072612Z
LAST-MODIFIED:20260119T072612Z
UID:2512-1794614400-1794700799@volksbeat.at
SUMMARY:Bauernjugendball
DESCRIPTION:
URL:https://volksbeat.at/event/bauernjugendball-2/
LOCATION:Mühlwald
END:VEVENT
BEGIN:VEVENT
DTSTART;VALUE=DATE:20261231
DTEND;VALUE=DATE:20270101
DTSTAMP:20260423T155200
CREATED:20260210T075911Z
LAST-MODIFIED:20260210T075911Z
UID:2608-1798675200-1798761599@volksbeat.at
SUMMARY:Silvesterparty
DESCRIPTION:
URL:https://volksbeat.at/event/silvesterparty-2/
LOCATION:Jägerhof
END:VEVENT
BEGIN:VEVENT
DTSTART;VALUE=DATE:20270102
DTEND;VALUE=DATE:20270103
DTSTAMP:20260423T155200
CREATED:20260225T102048Z
LAST-MODIFIED:20260225T102048Z
UID:2654-1798848000-1798934399@volksbeat.at
SUMMARY:Grauviehzüchterball
DESCRIPTION:
URL:https://volksbeat.at/event/grauviehzuechterball/
LOCATION:Südtirol
END:VEVENT
BEGIN:VEVENT
DTSTART;VALUE=DATE:20270115
DTEND;VALUE=DATE:20270116
DTSTAMP:20260423T155200
CREATED:20260224T142101Z
LAST-MODIFIED:20260224T142101Z
UID:2652-1799971200-1800057599@volksbeat.at
SUMMARY:Faschingsball Gallzein
DESCRIPTION:
URL:https://volksbeat.at/event/faschingsball-gallzein/
LOCATION:Gallzein
END:VEVENT
BEGIN:VEVENT
DTSTART;VALUE=DATE:20270116
DTEND;VALUE=DATE:20270117
DTSTAMP:20260423T155200
CREATED:20260311T132535Z
LAST-MODIFIED:20260311T132535Z
UID:2724-1800057600-1800143999@volksbeat.at
SUMMARY:Maturaball Borg Telfs/ Technisches Gymnasium
DESCRIPTION:
URL:https://volksbeat.at/event/maturaball-borg-telfs-technisches-gymnasium/
LOCATION:Telfs
END:VEVENT
BEGIN:VEVENT
DTSTART;VALUE=DATE:20270122
DTEND;VALUE=DATE:20270123
DTSTAMP:20260423T155200
CREATED:20260413T070821Z
LAST-MODIFIED:20260413T070821Z
UID:2767-1800576000-1800662399@volksbeat.at
SUMMARY:Regionsmullerschaun
DESCRIPTION:
URL:https://volksbeat.at/event/regionsmullerschaun/
LOCATION:Kolsass
END:VEVENT
BEGIN:VEVENT
DTSTART;VALUE=DATE:20270123
DTEND;VALUE=DATE:20270124
DTSTAMP:20260423T155200
CREATED:20260130T120223Z
LAST-MODIFIED:20260130T120223Z
UID:2541-1800662400-1800748799@volksbeat.at
SUMMARY:Feuerwehrball Thaur
DESCRIPTION:
URL:https://volksbeat.at/event/feuerwehrball-thaur-2/
LOCATION:Thaur
END:VEVENT
BEGIN:VEVENT
DTSTART;VALUE=DATE:20270129
DTEND;VALUE=DATE:20270130
DTSTAMP:20260423T155200
CREATED:20260224T122640Z
LAST-MODIFIED:20260224T122640Z
UID:2650-1801180800-1801267199@volksbeat.at
SUMMARY:Maskenball Mieming
DESCRIPTION:
URL:https://volksbeat.at/event/maskenball-mieming/
END:VEVENT
BEGIN:VEVENT
DTSTART;VALUE=DATE:20270130
DTEND;VALUE=DATE:20270131
DTSTAMP:20260423T155200
CREATED:20260209T060705Z
LAST-MODIFIED:20260209T060705Z
UID:2586-1801267200-1801353599@volksbeat.at
SUMMARY:Faschingsball Sellrain
DESCRIPTION:
URL:https://volksbeat.at/event/faschingsball-sellrain/
LOCATION:Sellrain
END:VEVENT
BEGIN:VEVENT
DTSTART;VALUE=DATE:20270515
DTEND;VALUE=DATE:20270516
DTSTAMP:20260423T155200
CREATED:20251006T052614Z
LAST-MODIFIED:20251006T052614Z
UID:2446-1810339200-1810425599@volksbeat.at
SUMMARY:Termin nicht verfügbar
DESCRIPTION:
URL:https://volksbeat.at/event/termin-nicht-verfuegbar-28/
END:VEVENT
BEGIN:VEVENT
DTSTART;VALUE=DATE:20270612
DTEND;VALUE=DATE:20270613
DTSTAMP:20260423T155200
CREATED:20260123T090854Z
LAST-MODIFIED:20260123T090854Z
UID:2526-1812758400-1812844799@volksbeat.at
SUMMARY:Landesfeuerwehrbewerb
DESCRIPTION:
URL:https://volksbeat.at/event/landesfeuerwehrbewerb/
LOCATION:Mieming
END:VEVENT
BEGIN:VEVENT
DTSTART;VALUE=DATE:20270710
DTEND;VALUE=DATE:20270711
DTSTAMP:20260423T155200
CREATED:20260331T065723Z
LAST-MODIFIED:20260331T065723Z
UID:2740-1815177600-1815263999@volksbeat.at
SUMMARY:Feuerwehrfest
DESCRIPTION:
URL:https://volksbeat.at/event/feuerwehrfest-2/
LOCATION:St. Andrä
END:VEVENT
BEGIN:VEVENT
DTSTART;VALUE=DATE:20270717
DTEND;VALUE=DATE:20270718
DTSTAMP:20260423T155200
CREATED:20251216T073551Z
LAST-MODIFIED:20251216T073551Z
UID:2483-1815782400-1815868799@volksbeat.at
SUMMARY:Termin nicht verfügbar
DESCRIPTION:
URL:https://volksbeat.at/event/termin-nicht-verfuegbar-31/
END:VEVENT
BEGIN:VEVENT
DTSTART;VALUE=DATE:20270919
DTEND;VALUE=DATE:20270920
DTSTAMP:20260423T155200
CREATED:20260309T074226Z
LAST-MODIFIED:20260309T074226Z
UID:2698-1821312000-1821398399@volksbeat.at
SUMMARY:Kirchtagsfest
DESCRIPTION:
URL:https://volksbeat.at/event/kirchtagsfest/
LOCATION:Taufers
END:VEVENT
BEGIN:VEVENT
DTSTART;VALUE=DATE:20271002
DTEND;VALUE=DATE:20271003
DTSTAMP:20260423T155200
CREATED:20251219T132422Z
LAST-MODIFIED:20251219T132422Z
UID:2485-1822435200-1822521599@volksbeat.at
SUMMARY:Termin nicht verfügbar
DESCRIPTION:
URL:https://volksbeat.at/event/termin-nicht-verfuegbar-32/
END:VEVENT
BEGIN:VEVENT
DTSTART;VALUE=DATE:20271009
DTEND;VALUE=DATE:20271010
DTSTAMP:20260423T155200
CREATED:20260115T070135Z
LAST-MODIFIED:20260115T070135Z
UID:2505-1823040000-1823126399@volksbeat.at
SUMMARY:Termin nicht verfügbar
DESCRIPTION:
URL:https://volksbeat.at/event/termin-nicht-verfuegbar-33/
END:VEVENT
BEGIN:VEVENT
DTSTART;VALUE=DATE:20280630
DTEND;VALUE=DATE:20280701
DTSTAMP:20260423T155200
CREATED:20260409T070804Z
LAST-MODIFIED:20260409T070804Z
UID:2762-1845936000-1846022399@volksbeat.at
SUMMARY:Bataillonsschützenfest
DESCRIPTION:
URL:https://volksbeat.at/event/bataillonsschuetzenfest/
LOCATION:Grinzens
END:VEVENT
END:VCALENDAR