BEGIN:VCALENDAR
VERSION:2.0
PRODID:-//volksbeat.at - ECPv6.15.17.1//NONSGML v1.0//EN
CALSCALE:GREGORIAN
METHOD:PUBLISH
X-WR-CALNAME:volksbeat.at
X-ORIGINAL-URL:https://volksbeat.at
X-WR-CALDESC:Veranstaltungen für volksbeat.at
REFRESH-INTERVAL;VALUE=DURATION:PT1H
X-Robots-Tag:noindex
X-PUBLISHED-TTL:PT1H
BEGIN:VTIMEZONE
TZID:Europe/Berlin
BEGIN:DAYLIGHT
TZOFFSETFROM:+0100
TZOFFSETTO:+0200
TZNAME:CEST
DTSTART:20260329T010000
END:DAYLIGHT
BEGIN:STANDARD
TZOFFSETFROM:+0200
TZOFFSETTO:+0100
TZNAME:CET
DTSTART:20261025T010000
END:STANDARD
BEGIN:DAYLIGHT
TZOFFSETFROM:+0100
TZOFFSETTO:+0200
TZNAME:CEST
DTSTART:20270328T010000
END:DAYLIGHT
BEGIN:STANDARD
TZOFFSETFROM:+0200
TZOFFSETTO:+0100
TZNAME:CET
DTSTART:20271031T010000
END:STANDARD
BEGIN:DAYLIGHT
TZOFFSETFROM:+0100
TZOFFSETTO:+0200
TZNAME:CEST
DTSTART:20280326T010000
END:DAYLIGHT
BEGIN:STANDARD
TZOFFSETFROM:+0200
TZOFFSETTO:+0100
TZNAME:CET
DTSTART:20281029T010000
END:STANDARD
BEGIN:DAYLIGHT
TZOFFSETFROM:+0100
TZOFFSETTO:+0200
TZNAME:CEST
DTSTART:20290325T010000
END:DAYLIGHT
BEGIN:STANDARD
TZOFFSETFROM:+0200
TZOFFSETTO:+0100
TZNAME:CET
DTSTART:20291028T010000
END:STANDARD
END:VTIMEZONE
BEGIN:VEVENT
DTSTART;VALUE=DATE:20270919
DTEND;VALUE=DATE:20270920
DTSTAMP:20260423T174349
CREATED:20260309T074226Z
LAST-MODIFIED:20260309T074226Z
UID:2698-1821312000-1821398399@volksbeat.at
SUMMARY:Kirchtagsfest
DESCRIPTION:
URL:https://volksbeat.at/event/kirchtagsfest/
LOCATION:Taufers
END:VEVENT
BEGIN:VEVENT
DTSTART;VALUE=DATE:20271002
DTEND;VALUE=DATE:20271003
DTSTAMP:20260423T174349
CREATED:20251219T132422Z
LAST-MODIFIED:20251219T132422Z
UID:2485-1822435200-1822521599@volksbeat.at
SUMMARY:Termin nicht verfügbar
DESCRIPTION:
URL:https://volksbeat.at/event/termin-nicht-verfuegbar-32/
END:VEVENT
BEGIN:VEVENT
DTSTART;VALUE=DATE:20271009
DTEND;VALUE=DATE:20271010
DTSTAMP:20260423T174349
CREATED:20260115T070135Z
LAST-MODIFIED:20260115T070135Z
UID:2505-1823040000-1823126399@volksbeat.at
SUMMARY:Termin nicht verfügbar
DESCRIPTION:
URL:https://volksbeat.at/event/termin-nicht-verfuegbar-33/
END:VEVENT
BEGIN:VEVENT
DTSTART;VALUE=DATE:20280630
DTEND;VALUE=DATE:20280701
DTSTAMP:20260423T174349
CREATED:20260409T070804Z
LAST-MODIFIED:20260409T070804Z
UID:2762-1845936000-1846022399@volksbeat.at
SUMMARY:Bataillonsschützenfest
DESCRIPTION:
URL:https://volksbeat.at/event/bataillonsschuetzenfest/
LOCATION:Grinzens
END:VEVENT
END:VCALENDAR